Name | Last modified | Size | Description | |
---|---|---|---|---|
Parent Directory | - | |||
buildsrc-out.txt | 09-Jul-2024 00:45 | 954 | ||
buildsrc-summary.dcf | 09-Jul-2024 00:45 | 330 | ||
checksrc-out.txt | 05-Jul-2024 00:45 | 6.4K | ||
checksrc-summary.dcf | 05-Jul-2024 00:45 | 426 | ||
install-out.txt | 06-Jul-2024 00:45 | 789 | ||
install-summary.dcf | 06-Jul-2024 00:45 | 259 | ||