Name | Last modified | Size | Description | |
---|---|---|---|---|
Parent Directory | - | |||
buildbin-out.txt | 29-Jun-2024 00:41 | 1.6K | ||
buildbin-summary.dcf | 29-Jun-2024 00:41 | 547 | ||
buildsrc-out.txt | 29-Jun-2024 00:41 | 891 | ||
buildsrc-summary.dcf | 29-Jun-2024 00:41 | 435 | ||
checksrc-out.txt | 29-Jun-2024 00:41 | 5.8K | ||
checksrc-summary.dcf | 29-Jun-2024 00:41 | 455 | ||
install-out.txt | 29-Jun-2024 00:41 | 1.4K | ||
install-summary.dcf | 29-Jun-2024 00:41 | 274 | ||