Name | Last modified | Size | Description | |
---|---|---|---|---|
Parent Directory | - | |||
buildbin-out.txt | 17-Jul-2024 00:45 | 1.1K | ||
buildbin-summary.dcf | 17-Jul-2024 00:45 | 527 | ||
buildsrc-out.txt | 17-Jul-2024 00:45 | 909 | ||
buildsrc-summary.dcf | 17-Jul-2024 00:45 | 461 | ||
checksrc-out.txt | 17-Jul-2024 00:45 | 3.4K | ||
checksrc-summary.dcf | 17-Jul-2024 00:45 | 455 | ||
install-out.txt | 17-Jul-2024 00:45 | 1.0K | ||
install-summary.dcf | 17-Jul-2024 00:45 | 272 | ||