Index of /checkResults/devel/bioc-LATEST/scviR/raw-results/merida1
Name
Last modified
Size
Description
Parent Directory
-
install-summary.dcf
12-Jun-2024 04:42
264
install-out.txt
12-Jun-2024 04:42
1.0K
buildsrc-summary.dcf
12-Jun-2024 04:42
339
buildsrc-out.txt
12-Jun-2024 04:42
2.5K