Index of /checkResults/devel/bioc-LATEST/scviR/raw-results/lconway
Name
Last modified
Size
Description
Parent Directory
-
buildsrc-out.txt
17-Jul-2024 00:42
2.6K
buildsrc-summary.dcf
17-Jul-2024 00:42
339
install-out.txt
17-Jul-2024 00:42
1.0K
install-summary.dcf
17-Jul-2024 00:42
264