Index of /checkResults/devel/bioc-LATEST/scviR/raw-results/kunpeng2
Name
Last modified
Size
Description
Parent Directory
-
install-summary.dcf
06-Jul-2024 00:45
244
buildsrc-summary.dcf
09-Jul-2024 00:45
317
install-out.txt
06-Jul-2024 00:45
603
buildsrc-out.txt
09-Jul-2024 00:45
24K