Name | Last modified | Size | Description | |
---|---|---|---|---|
Parent Directory | - | |||
install-summary.dcf | 06-Jul-2024 00:42 | 269 | ||
install-out.txt | 06-Jul-2024 00:42 | 49K | ||
checksrc-summary.dcf | 02-Jul-2024 00:42 | 444 | ||
checksrc-out.txt | 02-Jul-2024 00:42 | 4.0K | ||
buildsrc-summary.dcf | 06-Jul-2024 00:42 | 344 | ||
buildsrc-out.txt | 06-Jul-2024 00:42 | 1.3K | ||
buildbin-summary.dcf | 02-Jul-2024 00:42 | 531 | ||
buildbin-out.txt | 02-Jul-2024 00:42 | 53K | ||