Name | Last modified | Size | Description | |
---|---|---|---|---|
Parent Directory | - | |||
install-summary.dcf | 06-Jul-2024 00:43 | 269 | ||
install-out.txt | 06-Jul-2024 00:43 | 49K | ||
checksrc-summary.dcf | 06-Jul-2024 00:43 | 444 | ||
checksrc-out.txt | 06-Jul-2024 00:43 | 3.8K | ||
buildsrc-summary.dcf | 06-Jul-2024 00:43 | 426 | ||
buildsrc-out.txt | 06-Jul-2024 00:43 | 846 | ||
buildbin-summary.dcf | 06-Jul-2024 00:43 | 530 | ||
buildbin-out.txt | 06-Jul-2024 00:43 | 52K | ||