Name | Last modified | Size | Description | |
---|---|---|---|---|
Parent Directory | - | |||
buildsrc-summary.dcf | 12-Jun-2024 04:43 | 343 | ||
buildsrc-out.txt | 12-Jun-2024 04:43 | 1.5K | ||
install-out.txt | 12-Jun-2024 04:43 | 49K | ||
install-summary.dcf | 12-Jun-2024 04:43 | 269 | ||
buildbin-summary.dcf | 08-Jun-2024 09:30 | 530 | ||
buildbin-out.txt | 08-Jun-2024 09:30 | 52K | ||
checksrc-summary.dcf | 08-Jun-2024 09:30 | 444 | ||
checksrc-out.txt | 08-Jun-2024 09:30 | 4.0K | ||