Name | Last modified | Size | Description | |
---|---|---|---|---|
Parent Directory | - | |||
buildsrc-summary.dcf | 06-Jul-2024 00:45 | 316 | ||
buildsrc-out.txt | 06-Jul-2024 00:45 | 1.1K | ||
install-summary.dcf | 06-Jul-2024 00:45 | 241 | ||
install-out.txt | 06-Jul-2024 00:45 | 925 | ||
checksrc-summary.dcf | 05-Jul-2024 00:45 | 393 | ||
checksrc-out.txt | 05-Jul-2024 00:45 | 3.1K | ||