Name | Last modified | Size | Description | |
---|---|---|---|---|
Parent Directory | - | |||
buildbin-out.txt | 06-Jul-2024 00:43 | 6.9K | ||
buildbin-summary.dcf | 06-Jul-2024 00:43 | 561 | ||
buildsrc-out.txt | 06-Jul-2024 00:43 | 869 | ||
buildsrc-summary.dcf | 06-Jul-2024 00:43 | 443 | ||
checksrc-out.txt | 06-Jul-2024 00:43 | 3.8K | ||
checksrc-summary.dcf | 06-Jul-2024 00:43 | 465 | ||
install-out.txt | 06-Jul-2024 00:43 | 4.6K | ||
install-summary.dcf | 06-Jul-2024 00:43 | 280 | ||