Name | Last modified | Size | Description | |
---|---|---|---|---|
Parent Directory | - | |||
install-out.txt | 12-Jun-2024 04:43 | 4.6K | ||
install-summary.dcf | 12-Jun-2024 04:43 | 280 | ||
buildsrc-out.txt | 12-Jun-2024 04:43 | 869 | ||
buildsrc-summary.dcf | 12-Jun-2024 04:43 | 444 | ||
checksrc-out.txt | 12-Jun-2024 04:43 | 3.8K | ||
checksrc-summary.dcf | 12-Jun-2024 04:43 | 466 | ||
buildbin-out.txt | 12-Jun-2024 04:43 | 6.9K | ||
buildbin-summary.dcf | 12-Jun-2024 04:43 | 564 | ||