Name | Last modified | Size | Description | |
---|---|---|---|---|
Parent Directory | - | |||
buildbin-out.txt | 25-Jun-2024 00:38 | 46K | ||
buildbin-summary.dcf | 25-Jun-2024 00:38 | 519 | ||
buildsrc-out.txt | 25-Jun-2024 00:38 | 838 | ||
buildsrc-summary.dcf | 25-Jun-2024 00:38 | 422 | ||
checksrc-out.txt | 25-Jun-2024 00:38 | 4.2K | ||
checksrc-summary.dcf | 25-Jun-2024 00:38 | 442 | ||
install-out.txt | 25-Jun-2024 00:38 | 43K | ||
install-summary.dcf | 25-Jun-2024 00:38 | 265 | ||