Name | Last modified | Size | Description | |
---|---|---|---|---|
Parent Directory | - | |||
install-summary.dcf | 18-Jul-2024 00:40 | 260 | ||
install-out.txt | 18-Jul-2024 00:40 | 959 | ||
checksrc-summary.dcf | 18-Jul-2024 00:40 | 431 | ||
checksrc-out.txt | 18-Jul-2024 00:40 | 3.7K | ||
buildsrc-summary.dcf | 18-Jul-2024 00:40 | 437 | ||
buildsrc-out.txt | 18-Jul-2024 00:40 | 879 | ||
buildbin-summary.dcf | 18-Jul-2024 00:40 | 491 | ||
buildbin-out.txt | 18-Jul-2024 00:40 | 1.0K | ||