Index of /checkResults/devel/bioc-LATEST/scp/raw-results/kunpeng2
Name
Last modified
Size
Description
Parent Directory
-
install-summary.dcf
16-May-2024 02:46
264
install-out.txt
16-May-2024 02:46
652
buildsrc-summary.dcf
16-May-2024 02:46
335
buildsrc-out.txt
16-May-2024 02:46
875