Name | Last modified | Size | Description | |
---|---|---|---|---|
Parent Directory | - | |||
buildbin-out.txt | 29-Jun-2024 00:40 | 35K | ||
buildbin-summary.dcf | 29-Jun-2024 00:40 | 522 | ||
buildsrc-out.txt | 29-Jun-2024 00:40 | 841 | ||
buildsrc-summary.dcf | 29-Jun-2024 00:40 | 423 | ||
checksrc-out.txt | 29-Jun-2024 00:40 | 28K | ||
checksrc-summary.dcf | 29-Jun-2024 00:40 | 438 | ||
install-out.txt | 29-Jun-2024 00:40 | 33K | ||
install-summary.dcf | 29-Jun-2024 00:40 | 267 | ||