Name | Last modified | Size | Description | |
---|---|---|---|---|
Parent Directory | - | |||
install-out.txt | 07-Jul-2024 00:45 | 15K | ||
install-summary.dcf | 07-Jul-2024 00:45 | 245 | ||
buildsrc-out.txt | 09-Jul-2024 00:45 | 882 | ||
buildsrc-summary.dcf | 09-Jul-2024 00:45 | 401 | ||
checksrc-out.txt | 09-Jul-2024 00:45 | 8.9K | ||
checksrc-summary.dcf | 09-Jul-2024 00:45 | 399 | ||