Name | Last modified | Size | Description | |
---|---|---|---|---|
Parent Directory | - | |||
buildbin-out.txt | 12-Jun-2024 04:41 | 2.8K | ||
buildbin-summary.dcf | 12-Jun-2024 04:41 | 515 | ||
buildsrc-out.txt | 12-Jun-2024 04:41 | 931 | ||
buildsrc-summary.dcf | 12-Jun-2024 04:41 | 453 | ||
checksrc-out.txt | 12-Jun-2024 04:41 | 5.6K | ||
checksrc-summary.dcf | 12-Jun-2024 04:41 | 447 | ||
install-out.txt | 12-Jun-2024 04:41 | 2.7K | ||
install-summary.dcf | 12-Jun-2024 04:41 | 268 | ||