Index of /checkResults/devel/bioc-LATEST/sRACIPE/raw-results/kunpeng2
Name
Last modified
Size
Description
Parent Directory
-
buildsrc-out.txt
16-May-2024 02:46
910
buildsrc-summary.dcf
16-May-2024 02:46
428
install-out.txt
16-May-2024 02:46
2.6K
install-summary.dcf
16-May-2024 02:46
270