Name | Last modified | Size | Description | |
---|---|---|---|---|
Parent Directory | - | |||
install-summary.dcf | 12-Jul-2024 01:01 | 263 | ||
install-out.txt | 12-Jul-2024 01:01 | 1.0K | ||
checksrc-summary.dcf | 12-Jul-2024 01:01 | 432 | ||
checksrc-out.txt | 12-Jul-2024 01:01 | 3.4K | ||
buildsrc-summary.dcf | 12-Jul-2024 01:01 | 419 | ||
buildsrc-out.txt | 12-Jul-2024 01:01 | 804 | ||
buildbin-summary.dcf | 12-Jul-2024 01:01 | 512 | ||
buildbin-out.txt | 12-Jul-2024 01:01 | 1.1K | ||