Name | Last modified | Size | Description | |
---|---|---|---|---|
Parent Directory | - | |||
buildsrc-out.txt | 09-Jul-2024 00:45 | 1.2K | ||
buildsrc-summary.dcf | 09-Jul-2024 00:45 | 428 | ||
checksrc-out.txt | 09-Jul-2024 00:45 | 4.1K | ||
checksrc-summary.dcf | 09-Jul-2024 00:45 | 345 | ||
install-out.txt | 06-Jul-2024 00:44 | 636 | ||
install-summary.dcf | 06-Jul-2024 00:44 | 264 | ||