Name | Last modified | Size | Description | |
---|---|---|---|---|
Parent Directory | - | |||
buildsrc-out.txt | 06-Jul-2024 00:39 | 919 | ||
buildsrc-summary.dcf | 06-Jul-2024 00:39 | 420 | ||
checksrc-out.txt | 06-Jul-2024 00:39 | 3.4K | ||
checksrc-summary.dcf | 06-Jul-2024 00:39 | 409 | ||
install-out.txt | 06-Jul-2024 00:39 | 1.4K | ||
install-summary.dcf | 06-Jul-2024 00:39 | 257 | ||