Name | Last modified | Size | Description | |
---|---|---|---|---|
Parent Directory | - | |||
install-summary.dcf | 17-Jul-2024 00:42 | 273 | ||
install-out.txt | 17-Jul-2024 00:42 | 1.0K | ||
checksrc-summary.dcf | 17-Jul-2024 00:42 | 452 | ||
checksrc-out.txt | 17-Jul-2024 00:42 | 3.4K | ||
buildsrc-summary.dcf | 17-Jul-2024 00:42 | 431 | ||
buildsrc-out.txt | 17-Jul-2024 00:42 | 864 | ||
buildbin-summary.dcf | 17-Jul-2024 00:42 | 542 | ||
buildbin-out.txt | 17-Jul-2024 00:42 | 1.2K | ||