Name | Last modified | Size | Description | |
---|---|---|---|---|
Parent Directory | - | |||
buildsrc-out.txt | 29-Jun-2024 00:38 | 881 | ||
buildsrc-summary.dcf | 29-Jun-2024 00:38 | 412 | ||
checksrc-out.txt | 29-Jun-2024 00:38 | 3.7K | ||
checksrc-summary.dcf | 29-Jun-2024 00:38 | 401 | ||
install-out.txt | 29-Jun-2024 00:38 | 951 | ||
install-summary.dcf | 29-Jun-2024 00:38 | 252 | ||