Name | Last modified | Size | Description | |
---|---|---|---|---|
Parent Directory | - | |||
buildbin-out.txt | 17-Jul-2024 00:41 | 2.0K | ||
buildbin-summary.dcf | 17-Jul-2024 00:41 | 511 | ||
buildsrc-out.txt | 17-Jul-2024 00:41 | 871 | ||
buildsrc-summary.dcf | 17-Jul-2024 00:41 | 452 | ||
checksrc-out.txt | 17-Jul-2024 00:41 | 4.3K | ||
checksrc-summary.dcf | 17-Jul-2024 00:41 | 453 | ||
install-out.txt | 17-Jul-2024 00:41 | 1.9K | ||
install-summary.dcf | 17-Jul-2024 00:41 | 271 | ||