Name | Last modified | Size | Description | |
---|---|---|---|---|
Parent Directory | - | |||
buildbin-out.txt | 22-Jun-2024 02:23 | 10K | ||
buildbin-summary.dcf | 22-Jun-2024 02:23 | 530 | ||
buildsrc-out.txt | 22-Jun-2024 02:23 | 894 | ||
buildsrc-summary.dcf | 22-Jun-2024 02:23 | 427 | ||
checksrc-out.txt | 22-Jun-2024 02:23 | 4.8K | ||
checksrc-summary.dcf | 22-Jun-2024 02:23 | 450 | ||
install-out.txt | 22-Jun-2024 02:23 | 6.7K | ||
install-summary.dcf | 22-Jun-2024 02:23 | 269 | ||