Name | Last modified | Size | Description | |
---|---|---|---|---|
Parent Directory | - | |||
buildbin-out.txt | 06-Jul-2024 00:43 | 5.7K | ||
buildbin-summary.dcf | 06-Jul-2024 00:43 | 517 | ||
buildsrc-out.txt | 06-Jul-2024 00:43 | 751 | ||
buildsrc-summary.dcf | 06-Jul-2024 00:43 | 420 | ||
checksrc-out.txt | 06-Jul-2024 00:43 | 4.3K | ||
checksrc-summary.dcf | 06-Jul-2024 00:43 | 441 | ||
install-out.txt | 06-Jul-2024 00:43 | 3.7K | ||
install-summary.dcf | 06-Jul-2024 00:43 | 264 | ||