Name | Last modified | Size | Description | |
---|---|---|---|---|
Parent Directory | - | |||
install-summary.dcf | 18-Jul-2024 00:39 | 263 | ||
install-out.txt | 18-Jul-2024 00:39 | 1.0K | ||
checksrc-summary.dcf | 18-Jul-2024 00:39 | 422 | ||
checksrc-out.txt | 18-Jul-2024 00:39 | 5.8K | ||
buildsrc-summary.dcf | 18-Jul-2024 00:39 | 428 | ||
buildsrc-out.txt | 18-Jul-2024 00:39 | 838 | ||