Name | Last modified | Size | Description | |
---|---|---|---|---|
Parent Directory | - | |||
buildbin-out.txt | 18-Jul-2024 00:42 | 1.2K | ||
buildbin-summary.dcf | 18-Jul-2024 00:42 | 542 | ||
buildsrc-out.txt | 18-Jul-2024 00:42 | 824 | ||
buildsrc-summary.dcf | 18-Jul-2024 00:42 | 433 | ||
checksrc-out.txt | 18-Jul-2024 00:42 | 5.8K | ||
checksrc-summary.dcf | 18-Jul-2024 00:42 | 452 | ||
install-out.txt | 18-Jul-2024 00:42 | 1.0K | ||
install-summary.dcf | 18-Jul-2024 00:42 | 272 | ||