Name | Last modified | Size | Description | |
---|---|---|---|---|
Parent Directory | - | |||
buildsrc-out.txt | 29-Jun-2024 00:38 | 888 | ||
buildsrc-summary.dcf | 29-Jun-2024 00:38 | 419 | ||
checksrc-out.txt | 29-Jun-2024 00:38 | 3.8K | ||
checksrc-summary.dcf | 29-Jun-2024 00:38 | 408 | ||
install-out.txt | 29-Jun-2024 00:38 | 957 | ||
install-summary.dcf | 29-Jun-2024 00:38 | 255 | ||