Name | Last modified | Size | Description | |
---|---|---|---|---|
Parent Directory | - | |||
buildbin-out.txt | 17-Jul-2024 00:40 | 1.5K | ||
buildbin-summary.dcf | 17-Jul-2024 00:40 | 545 | ||
buildsrc-out.txt | 17-Jul-2024 00:40 | 925 | ||
buildsrc-summary.dcf | 17-Jul-2024 00:40 | 475 | ||
checksrc-out.txt | 17-Jul-2024 00:40 | 3.9K | ||
checksrc-summary.dcf | 17-Jul-2024 00:40 | 481 | ||
install-out.txt | 17-Jul-2024 00:40 | 1.3K | ||
install-summary.dcf | 17-Jul-2024 00:40 | 282 | ||