Name | Last modified | Size | Description | |
---|---|---|---|---|
Parent Directory | - | |||
buildsrc-out.txt | 28-Jun-2024 00:37 | 909 | ||
buildsrc-summary.dcf | 28-Jun-2024 00:37 | 435 | ||
checksrc-out.txt | 28-Jun-2024 00:37 | 3.8K | ||
checksrc-summary.dcf | 28-Jun-2024 00:37 | 436 | ||
install-out.txt | 28-Jun-2024 00:37 | 1.3K | ||
install-summary.dcf | 28-Jun-2024 00:37 | 267 | ||