Name | Last modified | Size | Description | |
---|---|---|---|---|
Parent Directory | - | |||
buildbin-out.txt | 12-Jun-2024 04:41 | 2.5K | ||
buildbin-summary.dcf | 12-Jun-2024 04:41 | 510 | ||
buildsrc-out.txt | 12-Jun-2024 04:41 | 926 | ||
buildsrc-summary.dcf | 12-Jun-2024 04:41 | 448 | ||
checksrc-out.txt | 12-Jun-2024 04:41 | 5.6K | ||
checksrc-summary.dcf | 12-Jun-2024 04:41 | 444 | ||
install-out.txt | 12-Jun-2024 04:41 | 2.4K | ||
install-summary.dcf | 12-Jun-2024 04:41 | 267 | ||