Name | Last modified | Size | Description | |
---|---|---|---|---|
Parent Directory | - | |||
buildbin-out.txt | 28-Jun-2024 00:39 | 6.4K | ||
buildbin-summary.dcf | 28-Jun-2024 00:39 | 524 | ||
buildsrc-out.txt | 28-Jun-2024 00:39 | 905 | ||
buildsrc-summary.dcf | 28-Jun-2024 00:39 | 425 | ||
checksrc-out.txt | 28-Jun-2024 00:39 | 4.7K | ||
checksrc-summary.dcf | 28-Jun-2024 00:39 | 440 | ||
install-out.txt | 28-Jun-2024 00:39 | 2.9K | ||
install-summary.dcf | 28-Jun-2024 00:39 | 267 | ||