Index of /checkResults/devel/bioc-LATEST/omicRexposome/raw-results/palomino6
Name
Last modified
Size
Description
Parent Directory
-
install-summary.dcf
06-Jul-2024 00:40
286
buildsrc-summary.dcf
06-Jul-2024 00:40
399
buildsrc-out.txt
06-Jul-2024 00:40
705
install-out.txt
06-Jul-2024 00:40
1.0K