Name | Last modified | Size | Description | |
---|---|---|---|---|
Parent Directory | - | |||
buildsrc-out.txt | 29-Jun-2024 00:38 | 821 | ||
buildsrc-summary.dcf | 29-Jun-2024 00:38 | 416 | ||
checksrc-out.txt | 29-Jun-2024 00:38 | 7.2K | ||
checksrc-summary.dcf | 29-Jun-2024 00:38 | 404 | ||
install-out.txt | 29-Jun-2024 00:38 | 1.0K | ||
install-summary.dcf | 29-Jun-2024 00:38 | 254 | ||