Name | Last modified | Size | Description | |
---|---|---|---|---|
Parent Directory | - | |||
install-summary.dcf | 12-Jun-2024 04:40 | 264 | ||
install-out.txt | 12-Jun-2024 04:40 | 2.6K | ||
checksrc-summary.dcf | 12-Jun-2024 04:40 | 445 | ||
checksrc-out.txt | 12-Jun-2024 04:40 | 4.4K | ||
buildsrc-summary.dcf | 12-Jun-2024 04:40 | 445 | ||
buildsrc-out.txt | 12-Jun-2024 04:40 | 898 | ||
buildbin-summary.dcf | 12-Jun-2024 04:40 | 504 | ||
buildbin-out.txt | 12-Jun-2024 04:40 | 2.7K | ||