Name | Last modified | Size | Description | |
---|---|---|---|---|
Parent Directory | - | |||
buildbin-out.txt | 06-Jul-2024 00:43 | 4.9K | ||
checksrc-out.txt | 06-Jul-2024 00:43 | 4.5K | ||
install-out.txt | 06-Jul-2024 00:43 | 2.9K | ||
buildsrc-out.txt | 06-Jul-2024 00:43 | 878 | ||
buildbin-summary.dcf | 06-Jul-2024 00:43 | 517 | ||
checksrc-summary.dcf | 06-Jul-2024 00:43 | 442 | ||
buildsrc-summary.dcf | 06-Jul-2024 00:43 | 421 | ||
install-summary.dcf | 06-Jul-2024 00:43 | 265 | ||