Name | Last modified | Size | Description | |
---|---|---|---|---|
Parent Directory | - | |||
install-summary.dcf | 06-Jul-2024 00:44 | 252 | ||
install-out.txt | 06-Jul-2024 00:44 | 1.0K | ||
checksrc-summary.dcf | 06-Jul-2024 00:44 | 417 | ||
checksrc-out.txt | 06-Jul-2024 00:44 | 1.5K | ||
buildsrc-summary.dcf | 06-Jul-2024 00:44 | 412 | ||
buildsrc-out.txt | 06-Jul-2024 00:44 | 808 | ||