Name | Last modified | Size | Description | |
---|---|---|---|---|
Parent Directory | - | |||
buildsrc-out.txt | 29-Jun-2024 00:38 | 862 | ||
buildsrc-summary.dcf | 29-Jun-2024 00:38 | 417 | ||
checksrc-out.txt | 29-Jun-2024 00:38 | 3.2K | ||
checksrc-summary.dcf | 29-Jun-2024 00:38 | 406 | ||
install-out.txt | 29-Jun-2024 00:38 | 946 | ||
install-summary.dcf | 29-Jun-2024 00:38 | 255 | ||