Name | Last modified | Size | Description | |
---|---|---|---|---|
Parent Directory | - | |||
buildsrc-out.txt | 17-Jul-2024 00:39 | 892 | ||
buildsrc-summary.dcf | 17-Jul-2024 00:39 | 412 | ||
checksrc-out.txt | 17-Jul-2024 00:39 | 11K | ||
checksrc-summary.dcf | 17-Jul-2024 00:39 | 403 | ||
install-out.txt | 17-Jul-2024 00:39 | 243K | ||
install-summary.dcf | 17-Jul-2024 00:39 | 252 | ||