Name | Last modified | Size | Description | |
---|---|---|---|---|
Parent Directory | - | |||
buildbin-out.txt | 17-Jul-2024 00:42 | 425K | ||
buildbin-summary.dcf | 17-Jul-2024 00:42 | 507 | ||
checksrc-summary.dcf | 17-Jul-2024 00:42 | 434 | ||
checksrc-out.txt | 17-Jul-2024 00:42 | 7.1K | ||
buildsrc-out.txt | 17-Jul-2024 00:42 | 878 | ||
buildsrc-summary.dcf | 17-Jul-2024 00:42 | 416 | ||
install-summary.dcf | 17-Jul-2024 00:42 | 262 | ||
install-out.txt | 17-Jul-2024 00:42 | 423K | ||