Name | Last modified | Size | Description | |
---|---|---|---|---|
Parent Directory | - | |||
install-summary.dcf | 07-Jul-2024 00:44 | 240 | ||
install-out.txt | 07-Jul-2024 00:44 | 234K | ||
checksrc-summary.dcf | 09-Jul-2024 00:45 | 395 | ||
checksrc-out.txt | 09-Jul-2024 00:45 | 11K | ||
buildsrc-summary.dcf | 09-Jul-2024 00:45 | 394 | ||
buildsrc-out.txt | 09-Jul-2024 00:45 | 856 | ||