Name | Last modified | Size | Description | |
---|---|---|---|---|
Parent Directory | - | |||
install-summary.dcf | 17-Jul-2024 00:43 | 262 | ||
install-out.txt | 17-Jul-2024 00:43 | 425K | ||
checksrc-summary.dcf | 17-Jul-2024 00:43 | 433 | ||
checksrc-out.txt | 17-Jul-2024 00:43 | 10K | ||
buildsrc-summary.dcf | 17-Jul-2024 00:43 | 416 | ||
buildsrc-out.txt | 17-Jul-2024 00:43 | 878 | ||
buildbin-summary.dcf | 17-Jul-2024 00:43 | 505 | ||
buildbin-out.txt | 17-Jul-2024 00:43 | 427K | ||