Name | Last modified | Size | Description | |
---|---|---|---|---|
Parent Directory | - | |||
checksrc-out.txt | 05-Jul-2024 00:45 | 5.1K | ||
checksrc-summary.dcf | 05-Jul-2024 00:45 | 427 | ||
install-out.txt | 06-Jul-2024 00:44 | 626 | ||
install-summary.dcf | 06-Jul-2024 00:44 | 257 | ||
buildsrc-out.txt | 09-Jul-2024 00:45 | 1.3K | ||
buildsrc-summary.dcf | 09-Jul-2024 00:45 | 329 | ||