Name | Last modified | Size | Description | |
---|---|---|---|---|
Parent Directory | - | |||
buildsrc-out.txt | 21-Jun-2024 01:14 | 917 | ||
buildsrc-summary.dcf | 21-Jun-2024 01:14 | 441 | ||
checksrc-out.txt | 21-Jun-2024 01:14 | 4.5K | ||
checksrc-summary.dcf | 21-Jun-2024 01:14 | 438 | ||
install-out.txt | 21-Jun-2024 01:14 | 1.0K | ||
install-summary.dcf | 21-Jun-2024 01:14 | 271 | ||