Name | Last modified | Size | Description | |
---|---|---|---|---|
Parent Directory | - | |||
checksrc-summary.dcf | 06-Jul-2024 00:44 | 408 | ||
checksrc-out.txt | 06-Jul-2024 00:44 | 3.3K | ||
buildsrc-summary.dcf | 06-Jul-2024 00:44 | 407 | ||
buildsrc-out.txt | 06-Jul-2024 00:44 | 804 | ||
install-summary.dcf | 06-Jul-2024 00:44 | 249 | ||
install-out.txt | 06-Jul-2024 00:44 | 1.9K | ||