Name | Last modified | Size | Description | |
---|---|---|---|---|
Parent Directory | - | |||
buildsrc-out.txt | 21-Jun-2024 01:14 | 877 | ||
buildsrc-summary.dcf | 21-Jun-2024 01:14 | 411 | ||
checksrc-out.txt | 21-Jun-2024 01:14 | 10K | ||
checksrc-summary.dcf | 21-Jun-2024 01:14 | 399 | ||
install-out.txt | 21-Jun-2024 01:14 | 968 | ||
install-summary.dcf | 21-Jun-2024 01:14 | 251 | ||