Name | Last modified | Size | Description | |
---|---|---|---|---|
Parent Directory | - | |||
buildbin-out.txt | 21-Jun-2024 01:15 | 1.1K | ||
buildbin-summary.dcf | 21-Jun-2024 01:15 | 506 | ||
buildsrc-out.txt | 21-Jun-2024 01:15 | 863 | ||
buildsrc-summary.dcf | 21-Jun-2024 01:15 | 415 | ||
checksrc-out.txt | 21-Jun-2024 01:15 | 10K | ||
checksrc-summary.dcf | 21-Jun-2024 01:15 | 429 | ||
install-out.txt | 21-Jun-2024 01:15 | 1.0K | ||
install-summary.dcf | 21-Jun-2024 01:15 | 261 | ||