Name | Last modified | Size | Description | |
---|---|---|---|---|
Parent Directory | - | |||
buildbin-summary.dcf | 06-Jul-2024 00:40 | 551 | ||
buildbin-out.txt | 06-Jul-2024 00:40 | 1.1K | ||
checksrc-summary.dcf | 06-Jul-2024 00:40 | 479 | ||
checksrc-out.txt | 06-Jul-2024 00:40 | 3.5K | ||
buildsrc-out.txt | 06-Jul-2024 00:40 | 930 | ||
buildsrc-summary.dcf | 06-Jul-2024 00:40 | 478 | ||
install-summary.dcf | 06-Jul-2024 00:40 | 284 | ||
install-out.txt | 06-Jul-2024 00:40 | 1.0K | ||